BEGIN:VCALENDAR
VERSION:2.0
PRODID:-//Alley on Center - ECPv6.15.20//NONSGML v1.0//EN
CALSCALE:GREGORIAN
METHOD:PUBLISH
X-WR-CALNAME:Alley on Center
X-ORIGINAL-URL:https://www.alleyoncenter.com
X-WR-CALDESC:Events for Alley on Center
REFRESH-INTERVAL;VALUE=DURATION:PT1H
X-Robots-Tag:noindex
X-PUBLISHED-TTL:PT1H
BEGIN:VTIMEZONE
TZID:America/Denver
BEGIN:DAYLIGHT
TZOFFSETFROM:-0700
TZOFFSETTO:-0600
TZNAME:MDT
DTSTART:20230312T090000
END:DAYLIGHT
BEGIN:STANDARD
TZOFFSETFROM:-0600
TZOFFSETTO:-0700
TZNAME:MST
DTSTART:20231105T080000
END:STANDARD
BEGIN:DAYLIGHT
TZOFFSETFROM:-0700
TZOFFSETTO:-0600
TZNAME:MDT
DTSTART:20240310T090000
END:DAYLIGHT
BEGIN:STANDARD
TZOFFSETFROM:-0600
TZOFFSETTO:-0700
TZNAME:MST
DTSTART:20241103T080000
END:STANDARD
BEGIN:DAYLIGHT
TZOFFSETFROM:-0700
TZOFFSETTO:-0600
TZNAME:MDT
DTSTART:20250309T090000
END:DAYLIGHT
BEGIN:STANDARD
TZOFFSETFROM:-0600
TZOFFSETTO:-0700
TZNAME:MST
DTSTART:20251102T080000
END:STANDARD
END:VTIMEZONE
BEGIN:VEVENT
DTSTART;TZID=America/Denver:20240719T183000
DTEND;TZID=America/Denver:20240719T203000
DTSTAMP:20260424T073421
CREATED:20240705T182037Z
LAST-MODIFIED:20240705T182037Z
UID:10000315-1721413800-1721421000@www.alleyoncenter.com
SUMMARY:Undraped figure drawing session (bring your own supplies) 2 hours
DESCRIPTION:Join us for an open figure drawing session in the upstairs loft of The Alley on Center. Hosted by Amilee @shecriesingraphite. This is a 2- hour unguided drawing session with a paid undraped model. Please bring any supplies you would like to use. \n18+ only! Supplies not provided* \n  \nWe can’t wait to see you there!
URL:https://www.alleyoncenter.com/event/undraped-figure-drawing-session-bring-your-own-supplies-2-hours/
LOCATION:Alley on Center\, 19 W Center St\, Logan\, UT\, 84321\, United States
CATEGORIES:Classes
ATTACH;FMTTYPE=image/png:https://www.alleyoncenter.com/wp-content/uploads/2024/02/2-hr.png
END:VEVENT
END:VCALENDAR