BEGIN:VCALENDAR
VERSION:2.0
PRODID:-//Alley on Center - ECPv6.15.20//NONSGML v1.0//EN
CALSCALE:GREGORIAN
METHOD:PUBLISH
X-ORIGINAL-URL:https://www.alleyoncenter.com
X-WR-CALDESC:Events for Alley on Center
REFRESH-INTERVAL;VALUE=DURATION:PT1H
X-Robots-Tag:noindex
X-PUBLISHED-TTL:PT1H
BEGIN:VTIMEZONE
TZID:America/Denver
BEGIN:DAYLIGHT
TZOFFSETFROM:-0700
TZOFFSETTO:-0600
TZNAME:MDT
DTSTART:20230312T090000
END:DAYLIGHT
BEGIN:STANDARD
TZOFFSETFROM:-0600
TZOFFSETTO:-0700
TZNAME:MST
DTSTART:20231105T080000
END:STANDARD
BEGIN:DAYLIGHT
TZOFFSETFROM:-0700
TZOFFSETTO:-0600
TZNAME:MDT
DTSTART:20240310T090000
END:DAYLIGHT
BEGIN:STANDARD
TZOFFSETFROM:-0600
TZOFFSETTO:-0700
TZNAME:MST
DTSTART:20241103T080000
END:STANDARD
BEGIN:DAYLIGHT
TZOFFSETFROM:-0700
TZOFFSETTO:-0600
TZNAME:MDT
DTSTART:20250309T090000
END:DAYLIGHT
BEGIN:STANDARD
TZOFFSETFROM:-0600
TZOFFSETTO:-0700
TZNAME:MST
DTSTART:20251102T080000
END:STANDARD
END:VTIMEZONE
BEGIN:VEVENT
DTSTART;TZID=America/Denver:20240604T100000
DTEND;TZID=America/Denver:20240604T120000
DTSTAMP:20260424T073346
CREATED:20240531T162904Z
LAST-MODIFIED:20240531T162934Z
UID:10000037-1717495200-1717502400@www.alleyoncenter.com
SUMMARY:Landscape Oil Painting Class
DESCRIPTION:Join Sean Wallis’ landscape oil painting class. Suitable for all ages. Explore techniques for capturing the beauty our natural landscape has to offer! \nIn this class Sean will teach values\, basic color theory\, lighting techniques\, and understanding your painting supplies. This is a 2 hour lightly guided session that includes a quick demo and critique as needed along the way. \nSupplies ARE included for this class.  \n  \nWe can’t wait to see you there!
URL:https://www.alleyoncenter.com/event/landscape-oil-painting/
LOCATION:Alley on Center\, 19 W Center St\, Logan\, UT\, 84321\, United States
CATEGORIES:Classes
END:VEVENT
BEGIN:VEVENT
DTSTART;TZID=America/Denver:20240611T100000
DTEND;TZID=America/Denver:20240611T120000
DTSTAMP:20260424T073346
CREATED:20240531T163126Z
LAST-MODIFIED:20240531T163126Z
UID:10000038-1718100000-1718107200@www.alleyoncenter.com
SUMMARY:Landscape Oil Painting Class
DESCRIPTION:Join Sean Wallis’ landscape oil painting class. Suitable for all ages. Explore techniques for capturing the beauty our natural landscape has to offer! \nIn this class Sean will teach values\, basic color theory\, lighting techniques\, and understanding your painting supplies. This is a 2 hour lightly guided session that includes a quick demo and critique as needed along the way. \nSupplies ARE included for this class.  \n  \nWe can’t wait to see you there!
URL:https://www.alleyoncenter.com/event/landscape-oil-painting-class/
LOCATION:Alley on Center\, 19 W Center St\, Logan\, UT\, 84321\, United States
CATEGORIES:Classes
END:VEVENT
BEGIN:VEVENT
DTSTART;TZID=America/Denver:20240619T190000
DTEND;TZID=America/Denver:20240619T210000
DTSTAMP:20260424T073346
CREATED:20240605T175746Z
LAST-MODIFIED:20240605T180411Z
UID:10000045-1718823600-1718830800@www.alleyoncenter.com
SUMMARY:Undraped Figure Painting Class
DESCRIPTION:Join artist Amilee @shecriesingraphite for a lightly guided undraped figure painting/drawing class from 7-9pm. Be aware that this class is UNDRAPED\, meaning there will be a nude model posing. We require that you are 18+ and sign a conduct form before the class begins. \nSupplies provided are: \n\nTable top easels\nPaint brushes\nZorn palette colors in oil\nCups for thinner\nPaper towels or toilet paper\nPalette paper\nCanvas boards\n\nPlease bring your own supplies if you plan to draw or use another medium during the class. \nWe cannot wait to see you there! \nThe Alley on Center
URL:https://www.alleyoncenter.com/event/undraped-figure-painting-class/
LOCATION:Alley on Center\, 19 W Center St\, Logan\, UT\, 84321\, United States
CATEGORIES:Classes
ATTACH;FMTTYPE=image/jpeg:https://www.alleyoncenter.com/wp-content/uploads/2024/06/nude_1995.47.1-scaled.jpg
END:VEVENT
BEGIN:VEVENT
DTSTART;TZID=America/Denver:20240625T100000
DTEND;TZID=America/Denver:20240625T120000
DTSTAMP:20260424T073346
CREATED:20240531T163433Z
LAST-MODIFIED:20240601T191727Z
UID:10000040-1719309600-1719316800@www.alleyoncenter.com
SUMMARY:Landscape Oil Painting Class
DESCRIPTION:Join Sean Wallis’ landscape oil painting class. Suitable for all ages. Explore techniques for capturing the beauty our natural landscape has to offer! \nIn this class Sean will teach values\, basic color theory\, lighting techniques\, and understanding your painting supplies. This is a 2 hour lightly guided session that includes a quick demo and critique as needed along the way. \nSupplies ARE included for this class.  \n  \nWe can’t wait to see you there!
URL:https://www.alleyoncenter.com/event/landscape-oil-painting-class-3/
LOCATION:Alley on Center\, 19 W Center St\, Logan\, UT\, 84321\, United States
CATEGORIES:Classes
ATTACH;FMTTYPE=image/png:https://www.alleyoncenter.com/wp-content/uploads/2024/06/Alley-Graphics-4.png
END:VEVENT
END:VCALENDAR